BEGIN:VCALENDAR
VERSION:2.0
PRODID:-//wp-events-plugin.com//7.2.3.1//EN
TZID:Europe/Berlin
X-WR-TIMEZONE:Europe/Berlin
BEGIN:VEVENT
UID:726@tus-halden-herbeck.de
DTSTART;TZID=Europe/Berlin:20240501T140000
DTEND;TZID=Europe/Berlin:20240501T200000
DTSTAMP:20240428T064516Z
URL:https://tus-halden-herbeck.de/events/volleyball-fruehlingsfest/
SUMMARY:Volleyball Frühlingsfest
DESCRIPTION:Beachplatz + (bei schlechtem Wetter) Biergarten
CATEGORIES:Volleyball
LOCATION:Beachplatz\, Im Alten Holz\, Hagen\, Deutschland
X-APPLE-STRUCTURED-LOCATION;VALUE=URI;X-ADDRESS=Im Alten Holz\, Hagen\, Deu
 tschland;X-APPLE-RADIUS=100;X-TITLE=Beachplatz:geo:0,0
END:VEVENT
BEGIN:VTIMEZONE
TZID:Europe/Berlin
X-LIC-LOCATION:Europe/Berlin
BEGIN:DAYLIGHT
DTSTART:20240331T030000
TZOFFSETFROM:+0100
TZOFFSETTO:+0200
TZNAME:CEST
END:DAYLIGHT
END:VTIMEZONE
END:VCALENDAR