BEGIN:VCALENDAR
VERSION:2.0
PRODID:-//wp-events-plugin.com//7.2.3.1//EN
TZID:Europe/Berlin
X-WR-TIMEZONE:Europe/Berlin
BEGIN:VEVENT
UID:1554@tus-halden-herbeck.de
DTSTART;TZID=Europe/Berlin:20260711T150000
DTEND;TZID=Europe/Berlin:20260711T200000
DTSTAMP:20260417T082148Z
URL:https://tus-halden-herbeck.de/events/faustball-u14-spieltag/
SUMMARY:Faustball U14 Spieltag
DESCRIPTION:
CATEGORIES:Faustball
LOCATION:Sportplatz und Biergarten im Alten Holz\, Im Alten Holz\, Hagen\, 
 Deutschland
X-APPLE-STRUCTURED-LOCATION;VALUE=URI;X-ADDRESS=Im Alten Holz\, Hagen\, Deu
 tschland;X-APPLE-RADIUS=100;X-TITLE=Sportplatz und Biergarten im Alten Hol
 z:geo:0,0
END:VEVENT
BEGIN:VTIMEZONE
TZID:Europe/Berlin
X-LIC-LOCATION:Europe/Berlin
BEGIN:DAYLIGHT
DTSTART:20260329T030000
TZOFFSETFROM:+0100
TZOFFSETTO:+0200
TZNAME:CEST
END:DAYLIGHT
END:VTIMEZONE
END:VCALENDAR